BEGIN:VCALENDAR
VERSION:2.0
PRODID:-//Focales
CALSCALE:GREGORIAN
METHOD:PUBLISH
X-WR-CALNAME:Focales
X-ORIGINAL-URL:https://focales.org/hillbrow-et-psaume-en-presence-du-realisateur/
X-WR-CALDESC:HILLBROW ET PSAUME EN PRESENCE DU REALISATEUR
BEGIN:VEVENT
DTSTART:20160322T153000
DTEND:20160322T173000
SUMMARY:HILLBROW ET PSAUME EN PRESENCE DU REALISATEUR
DESCRIPTION:
LOCATION:Clermont-Ferrand, Canopée
END:VEVENT
END:VCALENDAR
