BEGIN:VCALENDAR
VERSION:2.0
PRODID:-//Focales
CALSCALE:GREGORIAN
METHOD:PUBLISH
X-WR-CALNAME:Focales
X-ORIGINAL-URL:https://focales.org/formation-enseigner-le-cinema/
X-WR-CALDESC:FORMATION ENSEIGNER LE CINEMA
BEGIN:VEVENT
DTSTART:20160310T083000
DTEND:20160311T170000
SUMMARY:FORMATION ENSEIGNER LE CINEMA
DESCRIPTION:
LOCATION:Clermont-Ferrand 
END:VEVENT
END:VCALENDAR
