BEGIN:VCALENDAR
VERSION:2.0
PRODID:-//Focales
CALSCALE:GREGORIAN
METHOD:PUBLISH
X-WR-CALNAME:Focales
X-ORIGINAL-URL:https://focales.org/companeras-en-presence-des-realisateurs/
X-WR-CALDESC:COMPAÑERAS EN PRÉSENCE DES RÉALISATEURS
BEGIN:VEVENT
DTSTART:20160322T200000
DTEND:20160322T220000
SUMMARY:COMPAÑERAS EN PRÉSENCE DES RÉALISATEURS
DESCRIPTION:
LOCATION:Cinéma le rio de Clermont-Ferrand
END:VEVENT
END:VCALENDAR
