BEGIN:VCALENDAR
VERSION:2.0
PRODID:-//Focales
CALSCALE:GREGORIAN
METHOD:PUBLISH
X-WR-CALNAME:Focales
X-ORIGINAL-URL:https://focales.org/la-gueule-du-loup-en-presence-du-realisateur/
X-WR-CALDESC:LA GUEULE DU LOUP EN PRÉSENCE DU RÉALISATEUR
BEGIN:VEVENT
DTSTART:20160323T200000
DTEND:20160323T220000
SUMMARY:LA GUEULE DU LOUP EN PRÉSENCE DU RÉALISATEUR
DESCRIPTION:
LOCATION:Cinéma le rio de Clermont-Ferrand
END:VEVENT
END:VCALENDAR
