BEGIN:VCALENDAR
VERSION:2.0
PRODID:-//Focales
CALSCALE:GREGORIAN
METHOD:PUBLISH
X-WR-CALNAME:Focales
X-ORIGINAL-URL:https://focales.org/comme-des-lions-en-presence-de-la-realisatrice/
X-WR-CALDESC:COMME DES LIONS EN PRÉSENCE DE LA RÉALISATRICE
BEGIN:VEVENT
DTSTART:20160325T200000
DTEND:20160325T220000
SUMMARY:COMME DES LIONS EN PRÉSENCE DE LA RÉALISATRICE
DESCRIPTION:
LOCATION:Cinéma le rio de clermont-ferrand
END:VEVENT
END:VCALENDAR
