BEGIN:VCALENDAR
VERSION:2.0
PRODID:-//Focales
CALSCALE:GREGORIAN
METHOD:PUBLISH
X-WR-CALNAME:Focales
X-ORIGINAL-URL:https://focales.org/si-nous-avions-ete-des-statues-en-presence-de-la-realisatrice/
X-WR-CALDESC:SI NOUS AVIONS ÉTÉ DES STATUES EN PRESENCE DE LA RÉALISATRICE
BEGIN:VEVENT
DTSTART:20160311T180000
DTEND:20160311T200000
SUMMARY:SI NOUS AVIONS ÉTÉ DES STATUES EN PRESENCE DE LA RÉALISATRICE
DESCRIPTION:
LOCATION:45.781152, 3.083560
END:VEVENT
END:VCALENDAR
