BEGIN:VCALENDAR
VERSION:2.0
PRODID:-//Focales
CALSCALE:GREGORIAN
METHOD:PUBLISH
X-WR-CALNAME:Focales
X-ORIGINAL-URL:https://focales.org/cine-soleil/
X-WR-CALDESC:CINÉ-SOLEIL
BEGIN:VEVENT
DTSTART:20160503T140000
DTEND:20160503T160000
SUMMARY:CINÉ-SOLEIL
DESCRIPTION:
LOCATION:https://www.google.com/maps?q=Cin%C3%A9ma+le+rio+de+clermont-ferrand
END:VEVENT
END:VCALENDAR
