BEGIN:VCALENDAR
VERSION:2.0
PRODID:-//Focales
CALSCALE:GREGORIAN
METHOD:PUBLISH
X-WR-CALNAME:Focales
X-ORIGINAL-URL:https://focales.org/projection-et-atelier-plein-la-bobine/
X-WR-CALDESC:PLEIN LA BOBINE EN BALADE
BEGIN:VEVENT
DTSTART:20160419T100000
DTEND:20160419T120000
SUMMARY:PLEIN LA BOBINE EN BALADE
DESCRIPTION:
LOCATION:cinéma le rio
END:VEVENT
END:VCALENDAR
