BEGIN:VCALENDAR
VERSION:2.0
PRODID:-//Focales
CALSCALE:GREGORIAN
METHOD:PUBLISH
X-WR-CALNAME:Focales
X-ORIGINAL-URL:https://focales.org/lartiste-par-lui-meme-une-histoire-de-lautoportrait/
X-WR-CALDESC:L&rsquo;ARTISTE PAR LUI-MÊME, UNE HISTOIRE DE L&rsquo;AUTOPORTRAIT
BEGIN:VEVENT
DTSTART:20160407T200000
DTEND:20160407T220000
SUMMARY:L&rsquo;ARTISTE PAR LUI-MÊME, UNE HISTOIRE DE L&rsquo;AUTOPORTRAIT
DESCRIPTION:
LOCATION:médiathèque de lempdes
END:VEVENT
END:VCALENDAR
