BEGIN:VCALENDAR
VERSION:2.0
PRODID:-//Focales
CALSCALE:GREGORIAN
METHOD:PUBLISH
X-WR-CALNAME:Focales
X-ORIGINAL-URL:https://focales.org/atelier-educmedia-du-portrait-au-selfie/
X-WR-CALDESC:ATELIER ÉDUC&rsquo;MÉDIA : DU PORTRAIT AU SELFIE
BEGIN:VEVENT
DTSTART:20160412T143000
DTEND:20160412T163000
SUMMARY:ATELIER ÉDUC&rsquo;MÉDIA : DU PORTRAIT AU SELFIE
DESCRIPTION:
LOCATION:bibliothèque beaumont
END:VEVENT
END:VCALENDAR
