BEGIN:VCALENDAR
VERSION:2.0
PRODID:-//Focales
CALSCALE:GREGORIAN
METHOD:PUBLISH
X-WR-CALNAME:Focales
X-ORIGINAL-URL:https://focales.org/atelier-educ-media-vraifaux-sur-les-reseaux-sociaux/
X-WR-CALDESC:ATELIER ÉDUC-MÉDIA : VRAI/FAUX SUR LES RÉSEAUX SOCIAUX
BEGIN:VEVENT
DTSTART:20160414T103000
DTEND:20160414T123000
SUMMARY:ATELIER ÉDUC-MÉDIA : VRAI/FAUX SUR LES RÉSEAUX SOCIAUX
DESCRIPTION:
LOCATION:médiathèque de jaude
END:VEVENT
END:VCALENDAR
