BEGIN:VCALENDAR
VERSION:2.0
PRODID:-//Focales
CALSCALE:GREGORIAN
METHOD:PUBLISH
X-WR-CALNAME:Focales
X-ORIGINAL-URL:https://focales.org/atelier-educmedia-decouverte-des-metiers-du-journalisme/
X-WR-CALDESC:ATELIER ÉDUC&rsquo;MÉDIA : DÉCOUVERTE DES MÉTIERS DU JOURNALISME
BEGIN:VEVENT
DTSTART:20160414T140000
DTEND:20160414T160000
SUMMARY:ATELIER ÉDUC&rsquo;MÉDIA : DÉCOUVERTE DES MÉTIERS DU JOURNALISME
DESCRIPTION:
LOCATION:médiathèque de lempdes
END:VEVENT
END:VCALENDAR
