BEGIN:VCALENDAR
VERSION:2.0
PRODID:-//Focales
CALSCALE:GREGORIAN
METHOD:PUBLISH
X-WR-CALNAME:Focales
X-ORIGINAL-URL:https://focales.org/atelier-autoportrait-a-la-warhol/
X-WR-CALDESC:AUTOPORTRAIT « À LA WARHOL »
BEGIN:VEVENT
DTSTART:20160420T150000
DTEND:20160420T170000
SUMMARY:AUTOPORTRAIT « À LA WARHOL »
DESCRIPTION:
LOCATION:médiathèque hugo pratt
END:VEVENT
END:VCALENDAR
