BEGIN:VCALENDAR
VERSION:2.0
PRODID:-//Focales
CALSCALE:GREGORIAN
METHOD:PUBLISH
X-WR-CALNAME:Focales
X-ORIGINAL-URL:https://focales.org/atelier-educmedia-deviens-journaliste/
X-WR-CALDESC:ATELIER ÉDUC&rsquo;MÉDIA : DEVIENS JOURNALISTE
BEGIN:VEVENT
DTSTART:20160422T140000
DTEND:20160422T160000
SUMMARY:ATELIER ÉDUC&rsquo;MÉDIA : DEVIENS JOURNALISTE
DESCRIPTION:
LOCATION:45.797725, 3.247708
END:VEVENT
END:VCALENDAR
