BEGIN:VCALENDAR
VERSION:2.0
PRODID:-//Focales
CALSCALE:GREGORIAN
METHOD:PUBLISH
X-WR-CALNAME:Focales
X-ORIGINAL-URL:https://focales.org/atelier-educmedia-des-infos-pas-tres-net/
X-WR-CALDESC:ATELIER ÉDUC&rsquo;MÉDIA : DES INFOS PAS TRÈS NET
BEGIN:VEVENT
DTSTART:20160423T153000
DTEND:20160423T173000
SUMMARY:ATELIER ÉDUC&rsquo;MÉDIA : DES INFOS PAS TRÈS NET
DESCRIPTION:
LOCATION:médiathèque hugo pratt
END:VEVENT
END:VCALENDAR
