BEGIN:VCALENDAR
VERSION:2.0
PRODID:-//Focales
CALSCALE:GREGORIAN
METHOD:PUBLISH
X-WR-CALNAME:Focales
X-ORIGINAL-URL:https://focales.org/merci-patron-en-presence-de-baptiste-lefevre/
X-WR-CALDESC:MERCI PATRON EN PRÉSENCE DE BAPTISTE LEFÈVRE
BEGIN:VEVENT
DTSTART:20160412T203000
DTEND:20160416T220000
SUMMARY:MERCI PATRON EN PRÉSENCE DE BAPTISTE LEFÈVRE
DESCRIPTION:
LOCATION:
END:VEVENT
END:VCALENDAR
