BEGIN:VCALENDAR
VERSION:2.0
PRODID:-//Focales
CALSCALE:GREGORIAN
METHOD:PUBLISH
X-WR-CALNAME:Focales
X-ORIGINAL-URL:https://focales.org/exposition-dinstallations/
X-WR-CALDESC:INSTALLATIONS JEUNE VIDEO
BEGIN:VEVENT
DTSTART:20160401T090000
DTEND:20160405T170000
SUMMARY:INSTALLATIONS JEUNE VIDEO
DESCRIPTION:
LOCATION:Canopé63
END:VEVENT
END:VCALENDAR
