BEGIN:VCALENDAR
VERSION:2.0
PRODID:-//Focales
CALSCALE:GREGORIAN
METHOD:PUBLISH
X-WR-CALNAME:Focales
X-ORIGINAL-URL:https://focales.org/rencontres-arts-visuels-combimages/
X-WR-CALDESC:RENCONTRES ARTS VISUELS COMB&rsquo;IMAGES
BEGIN:VEVENT
DTSTART:20160407T143000
DTEND:20160408T180000
SUMMARY:RENCONTRES ARTS VISUELS COMB&rsquo;IMAGES
DESCRIPTION:
LOCATION:Saint-Gervais d'Auvergne
END:VEVENT
END:VCALENDAR
