BEGIN:VCALENDAR
VERSION:2.0
PRODID:-//Focales
CALSCALE:GREGORIAN
METHOD:PUBLISH
X-WR-CALNAME:Focales
X-ORIGINAL-URL:https://focales.org/tout-en-haut-du-monde/
X-WR-CALDESC:PROJECTION DE TOUT EN HAUT DU MONDE
BEGIN:VEVENT
DTSTART:20160414T143000
DTEND:20160414T163000
SUMMARY:PROJECTION DE TOUT EN HAUT DU MONDE
DESCRIPTION:
LOCATION:cinéma le rio
END:VEVENT
END:VCALENDAR
