BEGIN:VCALENDAR
VERSION:2.0
PRODID:-//Focales
CALSCALE:GREGORIAN
METHOD:PUBLISH
X-WR-CALNAME:Focales
X-ORIGINAL-URL:https://focales.org/projection-debat-autour-de-mamans/
X-WR-CALDESC:PROJECTION-DÉBAT AUTOUR DE MAMAN(S)
BEGIN:VEVENT
DTSTART:20160517T140000
DTEND:20160517T160000
SUMMARY:PROJECTION-DÉBAT AUTOUR DE MAMAN(S)
DESCRIPTION:
LOCATION:1 rue du docteur vigenaud, clermont-ferrand
END:VEVENT
END:VCALENDAR
