BEGIN:VCALENDAR
VERSION:2.0
PRODID:-//Focales
CALSCALE:GREGORIAN
METHOD:PUBLISH
X-WR-CALNAME:Focales
X-ORIGINAL-URL:https://focales.org/marie-et-les-naufrages-en-presence-de-sebastien-betbeder/
X-WR-CALDESC:MARIE ET LES NAUFRAGÉS EN PRÉSENCE DU RÉALISATEUR SÉBASTIEN BETBEDER
BEGIN:VEVENT
DTSTART:20160526T203000
DTEND:20160526T223000
SUMMARY:MARIE ET LES NAUFRAGÉS EN PRÉSENCE DU RÉALISATEUR SÉBASTIEN BETBEDER
DESCRIPTION:
LOCATION:46.338844, 2.601968
END:VEVENT
END:VCALENDAR
