BEGIN:VCALENDAR
VERSION:2.0
PRODID:-//Focales
CALSCALE:GREGORIAN
METHOD:PUBLISH
X-WR-CALNAME:Focales
X-ORIGINAL-URL:https://focales.org/concours-court-metrage-du-crous/
X-WR-CALDESC:CONCOURS COURT METRAGE DU CROUS SUR LE THÈME SAUVAGE
BEGIN:VEVENT
DTSTART:20160517T235900
DTEND:20160518T020000
SUMMARY:CONCOURS COURT METRAGE DU CROUS SUR LE THÈME SAUVAGE
DESCRIPTION:
LOCATION:
END:VEVENT
END:VCALENDAR
