BEGIN:VCALENDAR
VERSION:2.0
PRODID:-//Focales
CALSCALE:GREGORIAN
METHOD:PUBLISH
X-WR-CALNAME:Focales
X-ORIGINAL-URL:https://focales.org/cine-concert-au-mupop/
X-WR-CALDESC:CINÉ-CONCERT AU MUPOP
BEGIN:VEVENT
DTSTART:20160427T203000
DTEND:20160427T223000
SUMMARY:CINÉ-CONCERT AU MUPOP
DESCRIPTION:
LOCATION:Mu pop, Rue Notre Dame, Montluçon
END:VEVENT
END:VCALENDAR
