BEGIN:VCALENDAR
VERSION:2.0
PRODID:-//Focales
CALSCALE:GREGORIAN
METHOD:PUBLISH
X-WR-CALNAME:Focales
X-ORIGINAL-URL:https://focales.org/atelier-educmedia-presentateur-dun-jour/
X-WR-CALDESC:ATELIER ÉDUC&rsquo;MÉDIA : PRÉSENTATEUR D&rsquo;UN JOUR
BEGIN:VEVENT
DTSTART:20160514T153000
DTEND:20160514T173000
SUMMARY:ATELIER ÉDUC&rsquo;MÉDIA : PRÉSENTATEUR D&rsquo;UN JOUR
DESCRIPTION:
LOCATION:médiathèque hugo pratt, rue pierre jacquet, cournon d'auvergne
END:VEVENT
END:VCALENDAR
