BEGIN:VCALENDAR
VERSION:2.0
PRODID:-//Focales
CALSCALE:GREGORIAN
METHOD:PUBLISH
X-WR-CALNAME:Focales
X-ORIGINAL-URL:https://focales.org/autoportrait-a-la-warhol/
X-WR-CALDESC:AUTOPORTRAIT « À LA WARHOL »
BEGIN:VEVENT
DTSTART:20160521T150000
DTEND:20160521T170000
SUMMARY:AUTOPORTRAIT « À LA WARHOL »
DESCRIPTION:
LOCATION:médiathèque hugo pratt, rue pierre jacquet, cournon d'auvergne
END:VEVENT
END:VCALENDAR
