BEGIN:VCALENDAR
VERSION:2.0
PRODID:-//Focales
CALSCALE:GREGORIAN
METHOD:PUBLISH
X-WR-CALNAME:Focales
X-ORIGINAL-URL:https://focales.org/avant-premiere-du-film-dhorreur-interdit-aux-moins-de-3-ans/
X-WR-CALDESC:AVANT PREMIÈRE DU FILM D&rsquo;HORREUR INTERDIT AUX MOINS DE 3 ANS
BEGIN:VEVENT
DTSTART:20160614T173000
DTEND:20160614T193000
SUMMARY:AVANT PREMIÈRE DU FILM D&rsquo;HORREUR INTERDIT AUX MOINS DE 3 ANS
DESCRIPTION:
LOCATION:https://www.google.fr/maps/place/45°46'38.2%22N+3°05'21.3%22E/@45.7772767,3.0870493,17z/data=!3m1!4b1!4m5!3m4!1s0x0:0x0!8m2!3d45.777273!4d3.089238
END:VEVENT
END:VCALENDAR
