BEGIN:VCALENDAR
VERSION:2.0
PRODID:-//Focales
CALSCALE:GREGORIAN
METHOD:PUBLISH
X-WR-CALNAME:Focales
X-ORIGINAL-URL:https://focales.org/presentation-de-la-residence-decriture-du-scenario/
X-WR-CALDESC:PRÉSENTATION DE LA RÉSIDENCE D&rsquo;ÉCRITURE DU SCÉNARIO
BEGIN:VEVENT
DTSTART:20160629T140000
DTEND:20160629T160000
SUMMARY:PRÉSENTATION DE LA RÉSIDENCE D&rsquo;ÉCRITURE DU SCÉNARIO
DESCRIPTION:
LOCATION:La Jetée, Place Michel de l'Hospital, Clermont-Ferrand
END:VEVENT
END:VCALENDAR
