BEGIN:VCALENDAR
VERSION:2.0
PRODID:-//Focales
CALSCALE:GREGORIAN
METHOD:PUBLISH
X-WR-CALNAME:Focales
X-ORIGINAL-URL:https://focales.org/atelier-educmedia-bande-annonce-des-lectures-dete-vadrouille/
X-WR-CALDESC:ATELIER ÉDUC&rsquo;MÉDIA : BANDE ANNONCE DES LECTURES D&rsquo;ÉTÉ VADROUILLE
BEGIN:VEVENT
DTSTART:20160604T143000
DTEND:20160604T163000
SUMMARY:ATELIER ÉDUC&rsquo;MÉDIA : BANDE ANNONCE DES LECTURES D&rsquo;ÉTÉ VADROUILLE
DESCRIPTION:
LOCATION:Médiathèque Chamfort, Clermont Communauté, Saint-Gènes-Champanelle
END:VEVENT
END:VCALENDAR
