BEGIN:VCALENDAR
VERSION:2.0
PRODID:-//Focales
CALSCALE:GREGORIAN
METHOD:PUBLISH
X-WR-CALNAME:Focales
X-ORIGINAL-URL:https://focales.org/animauxetcie-thiers-2/
X-WR-CALDESC:ANIMAUX ET CIE
BEGIN:VEVENT
DTSTART:20160718T221500
DTEND:20160718T234800
SUMMARY:ANIMAUX ET CIE
DESCRIPTION:
LOCATION:45.843990, 3.532843
END:VEVENT
END:VCALENDAR
