BEGIN:VCALENDAR
VERSION:2.0
PRODID:-//Focales
CALSCALE:GREGORIAN
METHOD:PUBLISH
X-WR-CALNAME:Focales
X-ORIGINAL-URL:https://focales.org/pixels_saint_pourcain/
X-WR-CALDESC:PIXELS
BEGIN:VEVENT
DTSTART:20160707T220000
DTEND:20160707T235900
SUMMARY:PIXELS
DESCRIPTION:
LOCATION:Paray-sous-Briailles
END:VEVENT
END:VCALENDAR
