BEGIN:VCALENDAR
VERSION:2.0
PRODID:-//Focales
CALSCALE:GREGORIAN
METHOD:PUBLISH
X-WR-CALNAME:Focales
X-ORIGINAL-URL:https://focales.org/lucy-cournon-2/
X-WR-CALDESC:LUCY
BEGIN:VEVENT
DTSTART:20160830T221500
DTEND:20160830T234400
SUMMARY:LUCY
DESCRIPTION:
LOCATION:Avenue des Dômes, Cournon-d'Auvergne
END:VEVENT
END:VCALENDAR
