BEGIN:VCALENDAR
VERSION:2.0
PRODID:-//Focales
CALSCALE:GREGORIAN
METHOD:PUBLISH
X-WR-CALNAME:Focales
X-ORIGINAL-URL:https://focales.org/ledernierloup-thiers-2/
X-WR-CALDESC:LE DERNIER LOUP
BEGIN:VEVENT
DTSTART:20160816T213000
DTEND:20160816T232900
SUMMARY:LE DERNIER LOUP
DESCRIPTION:
LOCATION:Iloa Parc Loisirs, Thiers
END:VEVENT
END:VCALENDAR
