BEGIN:VCALENDAR
VERSION:2.0
PRODID:-//Focales
CALSCALE:GREGORIAN
METHOD:PUBLISH
X-WR-CALNAME:Focales
X-ORIGINAL-URL:https://focales.org/ledernierloup-moulins/
X-WR-CALDESC:LE DERNIER LOUP
BEGIN:VEVENT
DTSTART:20160727T220000
DTEND:20160727T235900
SUMMARY:LE DERNIER LOUP
DESCRIPTION:
LOCATION:3 Impasse Dieudonné Costes 03000 Moulins
END:VEVENT
END:VCALENDAR
