BEGIN:VCALENDAR
VERSION:2.0
PRODID:-//Focales
CALSCALE:GREGORIAN
METHOD:PUBLISH
X-WR-CALNAME:Focales
X-ORIGINAL-URL:https://focales.org/microbeetgasoil-contigny/
X-WR-CALDESC:MICROBE ET GASOIL
BEGIN:VEVENT
DTSTART:20160721T220000
DTEND:20160721T234400
SUMMARY:MICROBE ET GASOIL
DESCRIPTION:
LOCATION:Rue du Parc 03500 Contigny
END:VEVENT
END:VCALENDAR
