BEGIN:VCALENDAR
VERSION:2.0
PRODID:-//Focales
CALSCALE:GREGORIAN
METHOD:PUBLISH
X-WR-CALNAME:Focales
X-ORIGINAL-URL:https://focales.org/lucy-montlucon/
X-WR-CALDESC:LUCY
BEGIN:VEVENT
DTSTART:20160801T220000
DTEND:20160801T232900
SUMMARY:LUCY
DESCRIPTION:
LOCATION:Montluçon, Étang de Sault
END:VEVENT
END:VCALENDAR
