BEGIN:VCALENDAR
VERSION:2.0
PRODID:-//Focales
CALSCALE:GREGORIAN
METHOD:PUBLISH
X-WR-CALNAME:Focales
X-ORIGINAL-URL:https://focales.org/ledernierloup-cournon/
X-WR-CALDESC:LE DERNIER LOUP
BEGIN:VEVENT
DTSTART:20160824T211500
DTEND:20160824T231400
SUMMARY:LE DERNIER LOUP
DESCRIPTION:
LOCATION:10 Chemin des Toulaits 63800 Cournon-d'Auvergne
END:VEVENT
END:VCALENDAR
