BEGIN:VCALENDAR
VERSION:2.0
PRODID:-//Focales
CALSCALE:GREGORIAN
METHOD:PUBLISH
X-WR-CALNAME:Focales
X-ORIGINAL-URL:https://focales.org/lafamillebelier-yzeure/
X-WR-CALDESC:LA FAMILLE BÉLIER
BEGIN:VEVENT
DTSTART:20160719T220000
DTEND:20160719T234500
SUMMARY:LA FAMILLE BÉLIER
DESCRIPTION:
LOCATION:46.5492485 3.3549818
END:VEVENT
END:VCALENDAR
