BEGIN:VCALENDAR
VERSION:2.0
PRODID:-//Focales
CALSCALE:GREGORIAN
METHOD:PUBLISH
X-WR-CALNAME:Focales
X-ORIGINAL-URL:https://focales.org/ledernierloup-cournon-2/
X-WR-CALDESC:ASTÉRIX LE DOMAINE DES DIEUX
BEGIN:VEVENT
DTSTART:20160727T220000
DTEND:20160727T232600
SUMMARY:ASTÉRIX LE DOMAINE DES DIEUX
DESCRIPTION:
LOCATION:58 Avenue de la Libération, 63800 Cournon-d'Auvergne
END:VEVENT
END:VCALENDAR
