BEGIN:VCALENDAR
VERSION:2.0
PRODID:-//Focales
CALSCALE:GREGORIAN
METHOD:PUBLISH
X-WR-CALNAME:Focales
X-ORIGINAL-URL:https://focales.org/le-petit-prince-clermont-ferrand/
X-WR-CALDESC:LE PETIT PRINCE
BEGIN:VEVENT
DTSTART:20160916T210000
DTEND:20160916T230000
SUMMARY:LE PETIT PRINCE
DESCRIPTION:
LOCATION:Espace Nelson Mandela, Clermont-Ferrand
END:VEVENT
END:VCALENDAR
