BEGIN:VCALENDAR
VERSION:2.0
PRODID:-//Focales
CALSCALE:GREGORIAN
METHOD:PUBLISH
X-WR-CALNAME:Focales
X-ORIGINAL-URL:https://focales.org/pourquoijaipasmangemonpere-montlucon/
X-WR-CALDESC:POURQUOI J&rsquo;AI PAS MANGÉ MON PÈRE
BEGIN:VEVENT
DTSTART:20160726T220000
DTEND:20160726T235900
SUMMARY:POURQUOI J&rsquo;AI PAS MANGÉ MON PÈRE
DESCRIPTION:
LOCATION:46.3433721 2.5759591
END:VEVENT
END:VCALENDAR
