BEGIN:VCALENDAR
VERSION:2.0
PRODID:-//Focales
CALSCALE:GREGORIAN
METHOD:PUBLISH
X-WR-CALNAME:Focales
X-ORIGINAL-URL:https://focales.org/lafamillebelier-romagnat/
X-WR-CALDESC:LA FAMILLE BELIER
BEGIN:VEVENT
DTSTART:20160829T221500
DTEND:20160829T235900
SUMMARY:LA FAMILLE BELIER
DESCRIPTION:
LOCATION:45.7333844 3.1021980
END:VEVENT
END:VCALENDAR
