BEGIN:VCALENDAR
VERSION:2.0
PRODID:-//Focales
CALSCALE:GREGORIAN
METHOD:PUBLISH
X-WR-CALNAME:Focales
X-ORIGINAL-URL:https://focales.org/sambamontlucon/
X-WR-CALDESC:SAMBA
BEGIN:VEVENT
DTSTART:20160704T220000
DTEND:20160704T235900
SUMMARY:SAMBA
DESCRIPTION:
LOCATION:Paroisse Saint-Paul, 23 Rue Mondétour, 03100 Montluçon
END:VEVENT
END:VCALENDAR
