BEGIN:VCALENDAR
VERSION:2.0
PRODID:-//Focales
CALSCALE:GREGORIAN
METHOD:PUBLISH
X-WR-CALNAME:Focales
X-ORIGINAL-URL:https://focales.org/lesminions-louchymonfand/
X-WR-CALDESC:LES MINIONS
BEGIN:VEVENT
DTSTART:20160817T213000
DTEND:20160817T230100
SUMMARY:LES MINIONS
DESCRIPTION:
LOCATION:5 Rue de la Bascule, 03500 Louchy-Montfand, France
END:VEVENT
END:VCALENDAR
