BEGIN:VCALENDAR
VERSION:2.0
PRODID:-//Focales
CALSCALE:GREGORIAN
METHOD:PUBLISH
X-WR-CALNAME:Focales
X-ORIGINAL-URL:https://focales.org/minionschateau-de-charrie/
X-WR-CALDESC:PREMIERS CRUS
BEGIN:VEVENT
DTSTART:20160804T220000
DTEND:20160804T235800
SUMMARY:PREMIERS CRUS
DESCRIPTION:
LOCATION:Bellevue, 03140 Chareil-Cintrat, France
END:VEVENT
END:VCALENDAR
