BEGIN:VCALENDAR
VERSION:2.0
PRODID:-//Focales
CALSCALE:GREGORIAN
METHOD:PUBLISH
X-WR-CALNAME:Focales
X-ORIGINAL-URL:https://focales.org/arvermeshaunlemouton/
X-WR-CALDESC:SHAUN LE MOUTON
BEGIN:VEVENT
DTSTART:20160706T220000
DTEND:20160706T232500
SUMMARY:SHAUN LE MOUTON
DESCRIPTION:
LOCATION:Isléa, Auvergne, Avermes
END:VEVENT
END:VCALENDAR
