BEGIN:VCALENDAR
VERSION:2.0
PRODID:-//Focales
CALSCALE:GREGORIAN
METHOD:PUBLISH
X-WR-CALNAME:Focales
X-ORIGINAL-URL:https://focales.org/les-rayures-du-zebre-clermont-ferrand/
X-WR-CALDESC:LES RAYURES DU ZEBRE
BEGIN:VEVENT
DTSTART:20160713T221500
DTEND:20160713T233900
SUMMARY:LES RAYURES DU ZEBRE
DESCRIPTION:
LOCATION:Rue Sévigné 63000 Clermont-Ferrand
END:VEVENT
END:VCALENDAR
