BEGIN:VCALENDAR
VERSION:2.0
PRODID:-//Focales
CALSCALE:GREGORIAN
METHOD:PUBLISH
X-WR-CALNAME:Focales
X-ORIGINAL-URL:https://focales.org/paddingtoncournon/
X-WR-CALDESC:PADDINGTON
BEGIN:VEVENT
DTSTART:20160706T221500
DTEND:20160706T235000
SUMMARY:PADDINGTON
DESCRIPTION:
LOCATION:45.7305611 3.1924342
END:VEVENT
END:VCALENDAR
