BEGIN:VCALENDAR
VERSION:2.0
PRODID:-//Focales
CALSCALE:GREGORIAN
METHOD:PUBLISH
X-WR-CALNAME:Focales
X-ORIGINAL-URL:https://focales.org/gus-clermont-ferrand/
X-WR-CALDESC:GUS, PETIT OISEAU, GRAND VOYAGEUR
BEGIN:VEVENT
DTSTART:20160826T211500
DTEND:20160826T224600
SUMMARY:GUS, PETIT OISEAU, GRAND VOYAGEUR
DESCRIPTION:
LOCATION:Ecole Jules Vergne Clermont-Ferrand
END:VEVENT
END:VCALENDAR
