BEGIN:VCALENDAR
VERSION:2.0
PRODID:-//Focales
CALSCALE:GREGORIAN
METHOD:PUBLISH
X-WR-CALNAME:Focales
X-ORIGINAL-URL:https://focales.org/sambamoulins/
X-WR-CALDESC:SAMBA
BEGIN:VEVENT
DTSTART:20160820T210000
DTEND:20160820T225800
SUMMARY:SAMBA
DESCRIPTION:
LOCATION:Place de la Liberté, Moulins, France
END:VEVENT
END:VCALENDAR
