BEGIN:VCALENDAR
VERSION:2.0
PRODID:-//Focales
CALSCALE:GREGORIAN
METHOD:PUBLISH
X-WR-CALNAME:Focales
X-ORIGINAL-URL:https://focales.org/romeojuliette-clermont-ferrand/
X-WR-CALDESC:ROMÉO + JULIETTE
BEGIN:VEVENT
DTSTART:20160705T214500
DTEND:20160705T234500
SUMMARY:ROMÉO + JULIETTE
DESCRIPTION:
LOCATION:Place de la Victoire , Clermont-Ferrand
END:VEVENT
END:VCALENDAR
